BEGIN:VCALENDAR
VERSION:2.0
PRODID:-//Motor Clube do Estoril - ECPv6.0.6.2//NONSGML v1.0//EN
CALSCALE:GREGORIAN
METHOD:PUBLISH
X-WR-CALNAME:Motor Clube do Estoril
X-ORIGINAL-URL:https://mcestoril.pt
X-WR-CALDESC:Events for Motor Clube do Estoril
REFRESH-INTERVAL;VALUE=DURATION:PT1H
X-Robots-Tag:noindex
X-PUBLISHED-TTL:PT1H
BEGIN:VTIMEZONE
TZID:Europe/Lisbon
BEGIN:DAYLIGHT
TZOFFSETFROM:+0000
TZOFFSETTO:+0100
TZNAME:WEST
DTSTART:20260329T010000
END:DAYLIGHT
BEGIN:STANDARD
TZOFFSETFROM:+0100
TZOFFSETTO:+0000
TZNAME:WET
DTSTART:20261025T010000
END:STANDARD
END:VTIMEZONE
BEGIN:VEVENT
DTSTART;TZID=Europe/Lisbon:20260403T080000
DTEND;TZID=Europe/Lisbon:20260404T170000
DTSTAMP:20260420T061418
CREATED:20260325T113458Z
LAST-MODIFIED:20260325T113458Z
UID:10000108-1775203200-1775322000@mcestoril.pt
SUMMARY:Treinos FMP - 3/4 Abril 2026
DESCRIPTION:Link para inscrições: \nEntrenos oficiales competición FMP 3 y 4 de abril \n \n  \n 
URL:https://mcestoril.pt/event/treinos-fmp-3-4-abril-2026/
END:VEVENT
END:VCALENDAR