BEGIN:VCALENDAR
VERSION:2.0
PRODID:-//Motor Clube do Estoril - ECPv6.0.6.2//NONSGML v1.0//EN
CALSCALE:GREGORIAN
METHOD:PUBLISH
X-WR-CALNAME:Motor Clube do Estoril
X-ORIGINAL-URL:https://mcestoril.pt
X-WR-CALDESC:Events for Motor Clube do Estoril
REFRESH-INTERVAL;VALUE=DURATION:PT1H
X-Robots-Tag:noindex
X-PUBLISHED-TTL:PT1H
BEGIN:VTIMEZONE
TZID:Europe/Lisbon
BEGIN:DAYLIGHT
TZOFFSETFROM:+0000
TZOFFSETTO:+0100
TZNAME:WEST
DTSTART:20260329T010000
END:DAYLIGHT
BEGIN:STANDARD
TZOFFSETFROM:+0100
TZOFFSETTO:+0000
TZNAME:WET
DTSTART:20261025T010000
END:STANDARD
END:VTIMEZONE
BEGIN:VEVENT
DTSTART;TZID=Europe/Lisbon:20260403T080000
DTEND;TZID=Europe/Lisbon:20260404T170000
DTSTAMP:20260422T130152
CREATED:20260325T113458Z
LAST-MODIFIED:20260325T113458Z
UID:10000108-1775203200-1775322000@mcestoril.pt
SUMMARY:Treinos FMP - 3/4 Abril 2026
DESCRIPTION:Link para inscrições: \nhttps://neumaticosmotoval.com/producto/entrenos-oficiales-competicion-fmp-3-y-4-de-abril/ \n  \n 
URL:https://mcestoril.pt/event/treinos-fmp-3-4-abril-2026/
END:VEVENT
BEGIN:VEVENT
DTSTART;TZID=Europe/Lisbon:20260421T080000
DTEND;TZID=Europe/Lisbon:20260421T170000
DTSTAMP:20260422T130152
CREATED:20260421T144956Z
LAST-MODIFIED:20260421T144956Z
UID:10000111-1776758400-1776790800@mcestoril.pt
SUMMARY:ESTORIL EXPERIENCE DAY I - 24 MAIO 2026
DESCRIPTION:2026_EED_Horário_#1_v1
URL:https://mcestoril.pt/event/estoril-experience-day-i-24-maio-2026/
END:VEVENT
BEGIN:VEVENT
DTSTART;TZID=Europe/Lisbon:20260502T080000
DTEND;TZID=Europe/Lisbon:20260503T170000
DTSTAMP:20260422T130152
CREATED:20260421T143710Z
LAST-MODIFIED:20260421T143710Z
UID:10000109-1777708800-1777827600@mcestoril.pt
SUMMARY:TREINOS FMP - 2-3 MAIO 2026
DESCRIPTION:
URL:https://mcestoril.pt/event/treinos-fmp-2-3-maio-2026/
END:VEVENT
BEGIN:VEVENT
DTSTART;TZID=Europe/Lisbon:20260516T080000
DTEND;TZID=Europe/Lisbon:20260517T170000
DTSTAMP:20260422T130152
CREATED:20260421T144510Z
LAST-MODIFIED:20260421T144857Z
UID:10000110-1778918400-1779037200@mcestoril.pt
SUMMARY:CNV I - CIRCUITO ESTORIL 16/17 MAIO 2026
DESCRIPTION:CNV 2026 Circuito Estoril I Regulamento Particular V02 \nCNV 2026 Circuito Estoril I Regulamento Particular Anexo 3 Horario V01
URL:https://mcestoril.pt/event/cnv-i-circuito-estoril-16-17-maio-2026/
END:VEVENT
END:VCALENDAR